BEGIN:VCALENDAR
VERSION:2.0
PRODID:icalendar-ruby
CALSCALE:GREGORIAN
METHOD:PUBLISH
BEGIN:VEVENT
DTSTAMP:20260424T000043Z
UID:34-345167@impactpa.church
DTSTART:20260816T130000Z
DTEND:20260816T140000Z
CLASS:PUBLIC
CREATED:20260423T194754
DESCRIPTION:Sunday Worship
LAST-MODIFIED:20260423T194754
LOCATION:IMPACT Church\, Parkesburg\, PA
SUMMARY:Sunday Worship
URL;VALUE=URI:https://www.impactpa.church/events/sunday-worship--34/2026-08
 -16
ATTACH;FILENAME=DSC_0413.jpg;FMTTYPE=image/jpeg:https://dq5pwpg1q8ru0.cloud
 front.net/2026/03/03/20/12/34/87a5e150-4619-4334-abce-2d1f9c675f7b/DSC_041
 3.jpg
END:VEVENT
END:VCALENDAR
