BEGIN:VCALENDAR
VERSION:2.0
PRODID:icalendar-ruby
CALSCALE:GREGORIAN
METHOD:PUBLISH
BEGIN:VEVENT
DTSTAMP:20260426T033452Z
UID:70-348084@impactpa.church
DTSTART:20260624T220000Z
DTEND:20260624T230000Z
CLASS:PUBLIC
CREATED:20260425T212650
DESCRIPTION:NEXT GEN Youth Group
LAST-MODIFIED:20260425T212650
LOCATION:IMPACT Church\, Parkesburg\, PA
SUMMARY:NEXT GEN Youth Group
URL;VALUE=URI:https://www.impactpa.church/events/next-gen-youth-group--70/2
 026-06-24
END:VEVENT
END:VCALENDAR
