BEGIN:VCALENDAR
VERSION:2.0
PRODID:icalendar-ruby
CALSCALE:GREGORIAN
METHOD:PUBLISH
BEGIN:VEVENT
DTSTAMP:20260426T004416Z
UID:70-347868@impactpa.church
DTSTART:20260610T220000Z
DTEND:20260610T230000Z
CLASS:PUBLIC
CREATED:20260425T184438
DESCRIPTION:NEXT GEN Youth Group
LAST-MODIFIED:20260425T184438
LOCATION:IMPACT Church\, Parkesburg\, PA
SUMMARY:NEXT GEN Youth Group
URL;VALUE=URI:https://www.impactpa.church/events/next-gen-youth-group--70/2
 026-06-10
END:VEVENT
END:VCALENDAR
