BEGIN:VCALENDAR
VERSION:2.0
PRODID:icalendar-ruby
CALSCALE:GREGORIAN
METHOD:PUBLISH
BEGIN:VEVENT
DTSTAMP:20260425T184906Z
UID:70-347436@impactpa.church
DTSTART:20260513T220000Z
DTEND:20260513T230000Z
CLASS:PUBLIC
CREATED:20260425T132058
DESCRIPTION:NEXT GEN Youth Group
LAST-MODIFIED:20260425T132058
LOCATION:IMPACT Church\, Parkesburg\, PA
SUMMARY:NEXT GEN Youth Group
URL;VALUE=URI:https://www.impactpa.church/events/next-gen-youth-group--70/2
 026-05-13
END:VEVENT
END:VCALENDAR
