BEGIN:VCALENDAR
VERSION:2.0
PRODID:icalendar-ruby
CALSCALE:GREGORIAN
METHOD:PUBLISH
BEGIN:VEVENT
DTSTAMP:20260425T154454Z
UID:70-347220@impactpa.church
DTSTART:20260429T220000Z
DTEND:20260429T230000Z
CLASS:PUBLIC
CREATED:20260425T104053
DESCRIPTION:NEXT GEN Youth Group
LAST-MODIFIED:20260425T104053
LOCATION:IMPACT Church\, Parkesburg\, PA
SUMMARY:NEXT GEN Youth Group
URL;VALUE=URI:https://www.impactpa.church/events/next-gen-youth-group--70/2
 026-04-29
END:VEVENT
END:VCALENDAR
