BEGIN:VCALENDAR
VERSION:2.0
PRODID:icalendar-ruby
CALSCALE:GREGORIAN
METHOD:PUBLISH
BEGIN:VEVENT
DTSTAMP:20260425T142702Z
UID:70-347005@impactpa.church
DTSTART:20260422T220000Z
DTEND:20260422T230000Z
CLASS:PUBLIC
CREATED:20260425T075943
DESCRIPTION:NEXT GEN Youth Group
LAST-MODIFIED:20260425T075943
LOCATION:IMPACT Church\, Parkesburg\, PA
SUMMARY:NEXT GEN Youth Group
URL;VALUE=URI:https://www.impactpa.church/events/next-gen-youth-group--70/2
 026-04-22
END:VEVENT
END:VCALENDAR
