BEGIN:VCALENDAR
VERSION:2.0
PRODID:icalendar-ruby
CALSCALE:GREGORIAN
METHOD:PUBLISH
BEGIN:VEVENT
DTSTAMP:20260424T130637Z
UID:39-345665@impactpa.church
DTSTART:20260819T140000Z
DTEND:20260819T150000Z
CLASS:PUBLIC
CREATED:20260424T081031
DESCRIPTION:Our Mom's Group meets weekly on Wednesdays at 10:00am. We alter
 nate between playground time with the kids\, and bible study every other w
 eek.\nPlease reach out to Sarah Pryor at sarahrose.pryor@gmail.com with qu
 estions!
LAST-MODIFIED:20260424T081031
LOCATION:IMPACT Church
SUMMARY:Mom's Group
URL;VALUE=URI:https://www.impactpa.church/events/moms-group/2026-08-19
ATTACH;FILENAME=Mom%27s-Group-%281%29.jpg;FMTTYPE=image/jpeg:https://dq5pwp
 g1q8ru0.cloudfront.net/2025/07/08/16/42/38/677c51c7-e073-4c8a-a25f-111614e
 b8d40/Mom%2527s-Group-%25281%2529.jpg
END:VEVENT
END:VCALENDAR
